BEGIN:VCALENDAR
VERSION:2.0
PRODID:-//Aquacyclopedus  - ECPv6.6.2//NONSGML v1.0//EN
CALSCALE:GREGORIAN
METHOD:PUBLISH
X-ORIGINAL-URL:https://provinstriathlon.com
X-WR-CALDESC:évènements pour Aquacyclopedus 
REFRESH-INTERVAL;VALUE=DURATION:PT1H
X-Robots-Tag:noindex
X-PUBLISHED-TTL:PT1H
BEGIN:VTIMEZONE
TZID:Europe/Paris
BEGIN:DAYLIGHT
TZOFFSETFROM:+0100
TZOFFSETTO:+0200
TZNAME:CEST
DTSTART:20240331T010000
END:DAYLIGHT
BEGIN:STANDARD
TZOFFSETFROM:+0200
TZOFFSETTO:+0100
TZNAME:CET
DTSTART:20241027T010000
END:STANDARD
END:VTIMEZONE
BEGIN:VEVENT
DTSTART;TZID=Europe/Paris:20240616T093000
DTEND;TZID=Europe/Paris:20240616T173000
DTSTAMP:20260424T160313
CREATED:20231107T195642Z
LAST-MODIFIED:20231107T195642Z
UID:254-1718530200-1718559000@provinstriathlon.com
SUMMARY:Impérial Triathlon
DESCRIPTION:
URL:https://provinstriathlon.com/event/imperial-triathlon/
LOCATION:Cannes-Ecluse\, Rue des Bordes\, Cannes-Ecluse\, 77130
CATEGORIES:Triathlon
END:VEVENT
BEGIN:VEVENT
DTSTART;TZID=Europe/Paris:20240622T100000
DTEND;TZID=Europe/Paris:20240622T190000
DTSTAMP:20260424T160313
CREATED:20240418T203711Z
LAST-MODIFIED:20240418T204209Z
UID:299-1719050400-1719082800@provinstriathlon.com
SUMMARY:Le 10 ans du Centre Aquatique et Sportif du Provinois
DESCRIPTION:Le club de triathlon Aquacyclopedus se joint aux associations pour fêter les 10 ans du Centre Aquatique et Sportif du Provinois. \nA cette occasion\, le club propose une découverte du triathlon en réalisant un parcours de 10km décomposé comme suit : 300m de natation à la piscine\, 7km700 de vélo d’appartement et 2km de course à pied autour du site. \nVenez réaliser ce parcours en équipe de 3 ! \nMerci de contacter le CAP pour toutes demandes de renseignements ou inscription ! \nAu plaisir de vous faire découvrir notre sport. \nAffiche 10 ans du CAP
URL:https://provinstriathlon.com/event/le-10-ans-du-centre-aquatique-et-sportif-du-provinois/
LOCATION:Centre Aquatique et Sportif du Provinois\, 51 Route de Nanteuil\, Provins\, 77160\, France
ATTACH;FMTTYPE=image/png:https://provinstriathlon.com/wp-content/uploads/2024/04/Capture-decran-2024-04-18-a-22.39.30.png
END:VEVENT
BEGIN:VEVENT
DTSTART;VALUE=DATE:20240623
DTEND;VALUE=DATE:20240624
DTSTAMP:20260424T160313
CREATED:20231107T200249Z
LAST-MODIFIED:20231107T200349Z
UID:257-1719100800-1719187199@provinstriathlon.com
SUMMARY:Triathlon de Dienville
DESCRIPTION:
URL:https://provinstriathlon.com/event/triathlon-de-dienville/
LOCATION:Dienville\, Dienvielle\, 10500
CATEGORIES:Triathlon
ATTACH;FMTTYPE=image/png:https://provinstriathlon.com/wp-content/uploads/2023/11/230220_P1_AFFICHE_TRIATHLON_WEB.png
ORGANIZER;CN="Lo%C3%AFc":MAILTO:tg.tri10@gmail.com
END:VEVENT
END:VCALENDAR