BEGIN:VCALENDAR
VERSION:2.0
PRODID:-//Aquacyclopedus  - ECPv6.6.2//NONSGML v1.0//EN
CALSCALE:GREGORIAN
METHOD:PUBLISH
X-WR-CALNAME:Aquacyclopedus 
X-ORIGINAL-URL:https://provinstriathlon.com
X-WR-CALDESC:évènements pour Aquacyclopedus 
REFRESH-INTERVAL;VALUE=DURATION:PT1H
X-Robots-Tag:noindex
X-PUBLISHED-TTL:PT1H
BEGIN:VTIMEZONE
TZID:Europe/Paris
BEGIN:DAYLIGHT
TZOFFSETFROM:+0100
TZOFFSETTO:+0200
TZNAME:CEST
DTSTART:20240331T010000
END:DAYLIGHT
BEGIN:STANDARD
TZOFFSETFROM:+0200
TZOFFSETTO:+0100
TZNAME:CET
DTSTART:20241027T010000
END:STANDARD
END:VTIMEZONE
BEGIN:VEVENT
DTSTART;TZID=Europe/Paris:20241006T090000
DTEND;TZID=Europe/Paris:20241006T120000
DTSTAMP:20260422T160054
CREATED:20240920T202839Z
LAST-MODIFIED:20240920T202839Z
UID:396-1728205200-1728216000@provinstriathlon.com
SUMMARY:45e Course des remparts
DESCRIPTION:
URL:https://provinstriathlon.com/event/45e-course-des-remparts/
LOCATION:Provins\, Place du 29e Dragon\, Provins\, 77379
CATEGORIES:Course à pied
ORGANIZER;CN="AS Course des Remparts":MAILTO:coursedesremparts.provins@gmail.com
END:VEVENT
END:VCALENDAR