BEGIN:VCALENDAR
VERSION:2.0
PRODID:-//Aquacyclopedus  - ECPv6.6.2//NONSGML v1.0//EN
CALSCALE:GREGORIAN
METHOD:PUBLISH
X-WR-CALNAME:Aquacyclopedus 
X-ORIGINAL-URL:https://provinstriathlon.com
X-WR-CALDESC:évènements pour Aquacyclopedus 
REFRESH-INTERVAL;VALUE=DURATION:PT1H
X-Robots-Tag:noindex
X-PUBLISHED-TTL:PT1H
BEGIN:VTIMEZONE
TZID:Europe/Paris
BEGIN:DAYLIGHT
TZOFFSETFROM:+0100
TZOFFSETTO:+0200
TZNAME:CEST
DTSTART:20240331T010000
END:DAYLIGHT
BEGIN:STANDARD
TZOFFSETFROM:+0200
TZOFFSETTO:+0100
TZNAME:CET
DTSTART:20241027T010000
END:STANDARD
END:VTIMEZONE
BEGIN:VEVENT
DTSTART;VALUE=DATE:20240623
DTEND;VALUE=DATE:20240624
DTSTAMP:20260424T173917
CREATED:20231107T200249Z
LAST-MODIFIED:20231107T200349Z
UID:257-1719100800-1719187199@provinstriathlon.com
SUMMARY:Triathlon de Dienville
DESCRIPTION:
URL:https://provinstriathlon.com/event/triathlon-de-dienville/
LOCATION:Dienville\, Dienvielle\, 10500
CATEGORIES:Triathlon
ATTACH;FMTTYPE=image/png:https://provinstriathlon.com/wp-content/uploads/2023/11/230220_P1_AFFICHE_TRIATHLON_WEB.png
ORGANIZER;CN="Lo%C3%AFc":MAILTO:tg.tri10@gmail.com
END:VEVENT
END:VCALENDAR